BEGIN:VCALENDAR
VERSION:2.0
PRODID:-//NM Indian Affairs Department - ECPv6.15.20//NONSGML v1.0//EN
CALSCALE:GREGORIAN
METHOD:PUBLISH
X-WR-CALNAME:NM Indian Affairs Department
X-ORIGINAL-URL:https://www.iad.nm.gov
X-WR-CALDESC:Events for NM Indian Affairs Department
REFRESH-INTERVAL;VALUE=DURATION:PT1H
X-Robots-Tag:noindex
X-PUBLISHED-TTL:PT1H
BEGIN:VTIMEZONE
TZID:America/Denver
BEGIN:DAYLIGHT
TZOFFSETFROM:-0700
TZOFFSETTO:-0600
TZNAME:MDT
DTSTART:20230312T090000
END:DAYLIGHT
BEGIN:STANDARD
TZOFFSETFROM:-0600
TZOFFSETTO:-0700
TZNAME:MST
DTSTART:20231105T080000
END:STANDARD
BEGIN:DAYLIGHT
TZOFFSETFROM:-0700
TZOFFSETTO:-0600
TZNAME:MDT
DTSTART:20240310T090000
END:DAYLIGHT
BEGIN:STANDARD
TZOFFSETFROM:-0600
TZOFFSETTO:-0700
TZNAME:MST
DTSTART:20241103T080000
END:STANDARD
BEGIN:DAYLIGHT
TZOFFSETFROM:-0700
TZOFFSETTO:-0600
TZNAME:MDT
DTSTART:20250309T090000
END:DAYLIGHT
BEGIN:STANDARD
TZOFFSETFROM:-0600
TZOFFSETTO:-0700
TZNAME:MST
DTSTART:20251102T080000
END:STANDARD
END:VTIMEZONE
BEGIN:VEVENT
DTSTART;VALUE=DATE:20240101
DTEND;VALUE=DATE:20240102
DTSTAMP:20260423T055600
CREATED:20240207T211444Z
LAST-MODIFIED:20240207T211913Z
UID:6672-1704067200-1704153599@www.iad.nm.gov
SUMMARY:Transfer of Canes to New Pueblo Tribal Officials: Dances At Most Pueblos
DESCRIPTION:Taos Pueblo: Turtle Dance\nSanto Domingo Pueblo: Corn Dance\nJemez Pueblo: Matachines Dance\nPicuris: Various Dances\nOhkay Owingeh: Cloud or Basket Dance \nPlease call other Pueblos directly for information.
URL:https://www.iad.nm.gov/event/transfer-of-canes-to-new-pueblo-tribal-officials-dances-at-most-pueblos/
CATEGORIES:Feast Day
END:VEVENT
END:VCALENDAR